BEGIN:VCALENDAR
VERSION:2.0
PRODID:-//Barbecue Championship Series - ECPv6.15.18//NONSGML v1.0//EN
CALSCALE:GREGORIAN
METHOD:PUBLISH
X-ORIGINAL-URL:https://barbequechampionshipseries.org
X-WR-CALDESC:Events for Barbecue Championship Series
REFRESH-INTERVAL;VALUE=DURATION:PT1H
X-Robots-Tag:noindex
X-PUBLISHED-TTL:PT1H
BEGIN:VTIMEZONE
TZID:America/Phoenix
BEGIN:STANDARD
TZOFFSETFROM:-0700
TZOFFSETTO:-0700
TZNAME:MST
DTSTART:20240101T000000
END:STANDARD
END:VTIMEZONE
BEGIN:VEVENT
DTSTART;VALUE=DATE:20260220
DTEND;VALUE=DATE:20260222
DTSTAMP:20260421T030218
CREATED:20241208T121220Z
LAST-MODIFIED:20251115T125929Z
UID:21318-1771545600-1771718399@barbequechampionshipseries.org
SUMMARY:Freedom RV's 12th Hometown BBQ Throwdown
DESCRIPTION:Freedom RV’s 12th Hometown BBQ Throwdown is back and bigger than ever! Fire up your smokers and sharpen those knives—this year’s 4-meat showdown (Chicken\, Ribs\, Pork\, & Brisket) is set to pack serious heat\, with a $5\,000 prize pool and trophies so epic they’ll make your mantle weep with pride. Whether you’re a seasoned pro or just rolling your first rack of ribs into the pit\, come join the hometown tradition and make your mark in BBQ history. Spaces are limited\, so register your team today and get ready to bring the smoke! \n\n\n\n\n\nLock in your spot by December 31\, 2025\, and enjoy a $100 discount! Early bird entry is just $100—after December 31st\, it’s $200. Don’t wait!\nPlease let us know if you have any questions. \n\n  \n\nFREEDOM RV REGISTRATION
URL:https://barbequechampionshipseries.org/event/freedom-rvs-12th-hometown-bbq-throwdown/
LOCATION:Freedom RV\, 3735 E. Irvington Rd\, Tucson\, 85714\, United States
CATEGORIES:Brisket,Chicken,Events,Pork,Ribs
ATTACH;FMTTYPE=image/webp:https://barbequechampionshipseries.org/wp-content/uploads/2024/06/416327669_852362920228815_5587348503213244383_n.webp
END:VEVENT
BEGIN:VEVENT
DTSTART;VALUE=DATE:20251107
DTEND;VALUE=DATE:20251109
DTSTAMP:20260421T030218
CREATED:20170617T210504Z
LAST-MODIFIED:20250810T012443Z
UID:321-1762473600-1762646399@barbequechampionshipseries.org
SUMMARY:3rd Annual Downtown Mesa BBQ Classic
DESCRIPTION:Barbeque Championship Series and AZBarbeque are bringing you another great BBQ Comp. This one will be right in Downtown Mesa. It’s a 4 Meat Competition—Chicken\, Ribs\, Pork\, & Brisket with a minimum $10\,000 Prize Fund. Space is limited\, so get your team registration in quickly. \n\n\n\n\n\nRegistration fee prior to September 1\, 2025 $150. If you register after September 1\, 2025\, the cost is $200. Don’t miss this one!\nPlease let us know if you have any questions. \n\n  \n\nMESA CLASSIC REGISTRATION
URL:https://barbequechampionshipseries.org/event/2nd-annual-downtown-mesa-bbq-classic/
LOCATION:Mesa\, 100 North Center ST\, Mesa\, AZ\, 85201\, United States
CATEGORIES:Brisket,Chicken,Events,Pork,Ribs
ATTACH;FMTTYPE=image/webp:https://barbequechampionshipseries.org/wp-content/uploads/2024/08/sss455242853_1006225068175932_1397932028339179369_n.webp
END:VEVENT
END:VCALENDAR